BEGIN:VCALENDAR
VERSION:2.0
METHOD:PUBLISH
PRODID:-//PYVOBJECT//NONSGML Version 1//EN
BEGIN:VEVENT
UID:20260424T100531Z - 73357@boulder
DTSTART:20170228T020000Z
DTEND:20170228T033000Z
DESCRIPTION:\nThank you for registering for To Nail or To Plate? Complex Kn
 ee Fracture Management and Treatment Methods at\n\n  Feb. 27\, 2017\, 6 p.
 m. (Timezone: America/Los_Angeles).\n.\n\nClick here https://boulder.vumed
 i.com/webinar/to-nail-or-plate-complex-knee-fracture-management-and-treatm
 ent-methods/ to attend.\n\nRegards\n\nThe VuMedi Team\nhttp://www.vumedi.c
 om/\n
DTSTAMP:20260424T100531Z
LOCATION:https://boulder.vumedi.com/webinar/to-nail-or-plate-complex-knee-f
 racture-management-and-treatment-methods/
SUMMARY:To Nail or To Plate? Complex Knee Fracture Management and Treatment
  Methods
URL:https://boulder.vumedi.com/webinar/to-nail-or-plate-complex-knee-fractu
 re-management-and-treatment-methods/
END:VEVENT
END:VCALENDAR
