BEGIN:VCALENDAR
VERSION:2.0
METHOD:PUBLISH
PRODID:-//PYVOBJECT//NONSGML Version 1//EN
BEGIN:VEVENT
UID:20260423T112357Z - 42288@boulder
DTSTART:20181030T010000Z
DTEND:20181030T023000Z
DESCRIPTION:\nThank you for registering for The Changing Landscape of Vascu
 lar Closure Devices in 2018: ANGIO-SEAL VIP at\n\n  Oct. 29\, 2018\, 6 p.m
 . (Timezone: America/Los_Angeles).\n.\n\nClick here https://boulder.vumedi
 .com/webinar/the-use-of-angio-seal-vip-for-vascular-closure-and-considerat
 ions-for-vascular-access-site-managemen/ to attend.\n\nRegards\n\nThe VuMe
 di Team\nhttp://www.vumedi.com/\n
DTSTAMP:20260423T112357Z
LOCATION:https://boulder.vumedi.com/webinar/the-use-of-angio-seal-vip-for-v
 ascular-closure-and-considerations-for-vascular-access-site-managemen/
SUMMARY:The Changing Landscape of Vascular Closure Devices in 2018: ANGIO-S
 EAL VIP
URL:https://boulder.vumedi.com/webinar/the-use-of-angio-seal-vip-for-vascul
 ar-closure-and-considerations-for-vascular-access-site-managemen/
END:VEVENT
END:VCALENDAR
