BEGIN:VCALENDAR
VERSION:2.0
METHOD:PUBLISH
PRODID:-//PYVOBJECT//NONSGML Version 1//EN
BEGIN:VEVENT
UID:20260424T100438Z - 97232@boulder
DTSTART:20150729T000000Z
DTEND:20150729T013000Z
DESCRIPTION:\nThank you for registering for Enhancing Sagittal Stability in
  TKA featuring the GMK Sphere Knee at\n\n  July 28\, 2015\, 5 p.m. (Timezo
 ne: America/Los_Angeles).\n.\n\nClick here https://boulder.vumedi.com/webi
 nar/the-gmk-sphere-knee-experience-a-live-surgical-demonstration/ to atten
 d.\n\nRegards\n\nThe VuMedi Team\nhttp://www.vumedi.com/\n
DTSTAMP:20260424T100438Z
LOCATION:https://boulder.vumedi.com/webinar/the-gmk-sphere-knee-experience-
 a-live-surgical-demonstration/
SUMMARY:Enhancing Sagittal Stability in TKA featuring the GMK Sphere Knee
URL:https://boulder.vumedi.com/webinar/the-gmk-sphere-knee-experience-a-liv
 e-surgical-demonstration/
END:VEVENT
END:VCALENDAR
