BEGIN:VCALENDAR
VERSION:2.0
METHOD:PUBLISH
PRODID:-//PYVOBJECT//NONSGML Version 1//EN
BEGIN:VEVENT
UID:20260423T133805Z - 29752@boulder
DTSTART:20181206T020000Z
DTEND:20181206T033000Z
DESCRIPTION:\nThank you for registering for Taking Anterior Approach to the
  Next Level with Emerging Technology at\n\n  Dec. 5\, 2018\, 6 p.m. (Timez
 one: America/Los_Angeles).\n.\n\nClick here https://boulder.vumedi.com/web
 inar/taking-anterior-approach-to-the-next-level-with-emerging-technology/ 
 to attend.\n\nRegards\n\nThe VuMedi Team\nhttp://www.vumedi.com/\n
DTSTAMP:20260423T133805Z
LOCATION:https://boulder.vumedi.com/webinar/taking-anterior-approach-to-the
 -next-level-with-emerging-technology/
SUMMARY:Taking Anterior Approach to the Next Level with Emerging Technology
URL:https://boulder.vumedi.com/webinar/taking-anterior-approach-to-the-next
 -level-with-emerging-technology/
END:VEVENT
END:VCALENDAR
