BEGIN:VCALENDAR
VERSION:2.0
METHOD:PUBLISH
PRODID:-//PYVOBJECT//NONSGML Version 1//EN
BEGIN:VEVENT
UID:20260425T172802Z - 24120@boulder
DTSTART:20141202T020000Z
DTEND:20141202T033000Z
DESCRIPTION:\nThank you for registering for Same Day Total Joint Arthroplas
 ty Surgery at\n\n  Dec. 1\, 2014\, 6 p.m. (Timezone: America/Los_Angeles).
 \n.\n\nClick here https://boulder.vumedi.com/webinar/same-day-surgery-feat
 uring-visionaire-and-journey-ii/ to attend.\n\nRegards\n\nThe VuMedi Team\
 nhttp://www.vumedi.com/\n
DTSTAMP:20260425T172802Z
LOCATION:https://boulder.vumedi.com/webinar/same-day-surgery-featuring-visi
 onaire-and-journey-ii/
SUMMARY:Same Day Total Joint Arthroplasty Surgery
URL:https://boulder.vumedi.com/webinar/same-day-surgery-featuring-visionair
 e-and-journey-ii/
END:VEVENT
END:VCALENDAR
