BEGIN:VCALENDAR
VERSION:2.0
METHOD:PUBLISH
PRODID:-//PYVOBJECT//NONSGML Version 1//EN
BEGIN:VEVENT
UID:20260424T144342Z - 506@boulder
DTSTART:20181115T020000Z
DTEND:20181115T033000Z
DESCRIPTION:\nThank you for registering for Pushing Boundaries with Radial 
 Access at\n\n  Nov. 14\, 2018\, 6 p.m. (Timezone: America/Los_Angeles).\n.
 \n\nClick here https://boulder.vumedi.com/webinar/pushing-boundaries-with-
 radial-access/ to attend.\n\nRegards\n\nThe VuMedi Team\nhttp://www.vumedi
 .com/\n
DTSTAMP:20260424T144342Z
LOCATION:https://boulder.vumedi.com/webinar/pushing-boundaries-with-radial-
 access/
SUMMARY:Pushing Boundaries with Radial Access
URL:https://boulder.vumedi.com/webinar/pushing-boundaries-with-radial-acces
 s/
END:VEVENT
END:VCALENDAR
