BEGIN:VCALENDAR
VERSION:2.0
METHOD:PUBLISH
PRODID:-//PYVOBJECT//NONSGML Version 1//EN
BEGIN:VEVENT
UID:20260424T061822Z - 99861@boulder
DTSTART:20180906T010000Z
DTEND:20180906T023000Z
DESCRIPTION:\nThank you for registering for Perception vs. Evidence: Anteri
 or Approach Total Hip Replacement at\n\n  Sept. 5\, 2018\, 6 p.m. (Timezon
 e: America/Los_Angeles).\n.\n\nClick here https://boulder.vumedi.com/webin
 ar/perception-vs-evidence-anterior-approach-total-hip-replacement-2/ to at
 tend.\n\nRegards\n\nThe VuMedi Team\nhttp://www.vumedi.com/\n
DTSTAMP:20260424T061822Z
LOCATION:https://boulder.vumedi.com/webinar/perception-vs-evidence-anterior
 -approach-total-hip-replacement-2/
SUMMARY:Perception vs. Evidence: Anterior Approach Total Hip Replacement
URL:https://boulder.vumedi.com/webinar/perception-vs-evidence-anterior-appr
 oach-total-hip-replacement-2/
END:VEVENT
END:VCALENDAR
