BEGIN:VCALENDAR
VERSION:2.0
METHOD:PUBLISH
PRODID:-//PYVOBJECT//NONSGML Version 1//EN
BEGIN:VEVENT
UID:20260425T022042Z - 10740@boulder
DTSTART:20170420T000000Z
DTEND:20170420T013000Z
DESCRIPTION:\nThank you for registering for Outpatient Treatment Considerat
 ions via the Anterior Approach Total Hip Arthroplasty at\n\n  April 19\, 2
 017\, 5 p.m. (Timezone: America/Los_Angeles).\n.\n\nClick here https://bou
 lder.vumedi.com/webinar/outpatient-treatment-considerations-via-the-anteri
 or-approach-total-hip-arthroplasty/ to attend.\n\nRegards\n\nThe VuMedi Te
 am\nhttp://www.vumedi.com/\n
DTSTAMP:20260425T022042Z
LOCATION:https://boulder.vumedi.com/webinar/outpatient-treatment-considerat
 ions-via-the-anterior-approach-total-hip-arthroplasty/
SUMMARY:Outpatient Treatment Considerations via the Anterior Approach Total
  Hip Arthroplasty
URL:https://boulder.vumedi.com/webinar/outpatient-treatment-considerations-
 via-the-anterior-approach-total-hip-arthroplasty/
END:VEVENT
END:VCALENDAR
