BEGIN:VCALENDAR
VERSION:2.0
METHOD:PUBLISH
PRODID:-//PYVOBJECT//NONSGML Version 1//EN
BEGIN:VEVENT
UID:20260424T100424Z - 30277@boulder
DTSTART:20180313T000000Z
DTEND:20180313T013000Z
DESCRIPTION:\nThank you for registering for Maximizing Post - Traumatic Def
 ormity Planning: Advances in Computer Assisted Circular Fixation at\n\n  M
 arch 12\, 2018\, 5 p.m. (Timezone: America/Los_Angeles).\n.\n\nClick here 
 https://boulder.vumedi.com/webinar/maximizing-post-traumatic-deformity-pla
 nning-advances-in-computer-assisted-circular-fixation/ to attend.\n\nRegar
 ds\n\nThe VuMedi Team\nhttp://www.vumedi.com/\n
DTSTAMP:20260424T100424Z
LOCATION:https://boulder.vumedi.com/webinar/maximizing-post-traumatic-defor
 mity-planning-advances-in-computer-assisted-circular-fixation/
SUMMARY:Maximizing Post - Traumatic Deformity Planning: Advances in Compute
 r Assisted Circular Fixation
URL:https://boulder.vumedi.com/webinar/maximizing-post-traumatic-deformity-
 planning-advances-in-computer-assisted-circular-fixation/
END:VEVENT
END:VCALENDAR
