BEGIN:VCALENDAR
VERSION:2.0
METHOD:PUBLISH
PRODID:-//PYVOBJECT//NONSGML Version 1//EN
BEGIN:VEVENT
UID:20260424T193235Z - 11507@boulder
DTSTART:20130703T010000Z
DTEND:20130703T023000Z
DESCRIPTION:\nThank you for registering for Thoracolumbar Trauma at\n\n  Ju
 ly 2\, 2013\, 6 p.m. (Timezone: America/Los_Angeles).\n.\n\nClick here htt
 ps://boulder.vumedi.com/webinar/lsrs-presents-thoracolumbar-trauma/ to att
 end.\n\nRegards\n\nThe VuMedi Team\nhttp://www.vumedi.com/\n
DTSTAMP:20260424T193235Z
LOCATION:https://boulder.vumedi.com/webinar/lsrs-presents-thoracolumbar-tra
 uma/
SUMMARY:Thoracolumbar Trauma
URL:https://boulder.vumedi.com/webinar/lsrs-presents-thoracolumbar-trauma/
END:VEVENT
END:VCALENDAR
