BEGIN:VCALENDAR
VERSION:2.0
METHOD:PUBLISH
PRODID:-//PYVOBJECT//NONSGML Version 1//EN
BEGIN:VEVENT
UID:20260423T083619Z - 6447@boulder
DTSTART:20151021T010000Z
DTEND:20151021T023000Z
DESCRIPTION:\nThank you for registering for Is Short Stay the Solution for 
 a Changing Healthcare Environment at\n\n  Oct. 20\, 2015\, 6 p.m. (Timezon
 e: America/Los_Angeles).\n.\n\nClick here https://boulder.vumedi.com/webin
 ar/is-short-stay-the-solution-for-a-changing-healthcare-environment/ to at
 tend.\n\nRegards\n\nThe VuMedi Team\nhttp://www.vumedi.com/\n
DTSTAMP:20260423T083619Z
LOCATION:https://boulder.vumedi.com/webinar/is-short-stay-the-solution-for-
 a-changing-healthcare-environment/
SUMMARY:Is Short Stay the Solution for a Changing Healthcare Environment
URL:https://boulder.vumedi.com/webinar/is-short-stay-the-solution-for-a-cha
 nging-healthcare-environment/
END:VEVENT
END:VCALENDAR
