BEGIN:VCALENDAR
VERSION:2.0
METHOD:PUBLISH
PRODID:-//PYVOBJECT//NONSGML Version 1//EN
BEGIN:VEVENT
UID:20260423T173547Z - 72136@boulder
DTSTART:20161130T010000Z
DTEND:20161130T023000Z
DESCRIPTION:\nThank you for registering for Debate: Bicruciate Retaining vs
  Bicruciate Substituting at\n\n  Nov. 29\, 2016\, 5 p.m. (Timezone: Americ
 a/Los_Angeles).\n.\n\nClick here https://boulder.vumedi.com/webinar/debate
 -bicruciate-retaining-vs-bicruciate-substituting/ to attend.\n\nRegards\n\
 nThe VuMedi Team\nhttp://www.vumedi.com/\n
DTSTAMP:20260423T173547Z
LOCATION:https://boulder.vumedi.com/webinar/debate-bicruciate-retaining-vs-
 bicruciate-substituting/
SUMMARY:Debate: Bicruciate Retaining vs Bicruciate Substituting
URL:https://boulder.vumedi.com/webinar/debate-bicruciate-retaining-vs-bicru
 ciate-substituting/
END:VEVENT
END:VCALENDAR
