BEGIN:VCALENDAR
VERSION:2.0
METHOD:PUBLISH
PRODID:-//PYVOBJECT//NONSGML Version 1//EN
BEGIN:VEVENT
UID:20260424T025214Z - 29017@boulder
DTSTART:20180613T000000Z
DTEND:20180613T013000Z
DESCRIPTION:\nThank you for registering for Current Solutions in Unicondyla
 r Knee Replacement at\n\n  June 12\, 2018\, 5 p.m. (Timezone: America/Los_
 Angeles).\n.\n\nClick here https://boulder.vumedi.com/webinar/current-solu
 tions-in-unicondylar-knee-replacement/ to attend.\n\nRegards\n\nThe VuMedi
  Team\nhttp://www.vumedi.com/\n
DTSTAMP:20260424T025214Z
LOCATION:https://boulder.vumedi.com/webinar/current-solutions-in-unicondyla
 r-knee-replacement/
SUMMARY:Current Solutions in Unicondylar Knee Replacement
URL:https://boulder.vumedi.com/webinar/current-solutions-in-unicondylar-kne
 e-replacement/
END:VEVENT
END:VCALENDAR
