BEGIN:VCALENDAR
VERSION:2.0
METHOD:PUBLISH
PRODID:-//PYVOBJECT//NONSGML Version 1//EN
BEGIN:VEVENT
UID:20260423T171827Z - 10704@boulder
DTSTART:20180405T000000Z
DTEND:20180405T013000Z
DESCRIPTION:\nThank you for registering for Bicruciate-Retaining Knees: The
  Impact of Kinematics on Patient Satisfaction at\n\n  April 4\, 2018\, 5 p
 .m. (Timezone: America/Los_Angeles).\n.\n\nClick here https://boulder.vume
 di.com/webinar/bicruciate-retaining-knees-the-impact-of-kinematics-on-pati
 ent-satisfaction/ to attend.\n\nRegards\n\nThe VuMedi Team\nhttp://www.vum
 edi.com/\n
DTSTAMP:20260423T171827Z
LOCATION:https://boulder.vumedi.com/webinar/bicruciate-retaining-knees-the-
 impact-of-kinematics-on-patient-satisfaction/
SUMMARY:Bicruciate-Retaining Knees: The Impact of Kinematics on Patient Sat
 isfaction
URL:https://boulder.vumedi.com/webinar/bicruciate-retaining-knees-the-impac
 t-of-kinematics-on-patient-satisfaction/
END:VEVENT
END:VCALENDAR
