BEGIN:VCALENDAR
VERSION:2.0
METHOD:PUBLISH
PRODID:-//PYVOBJECT//NONSGML Version 1//EN
BEGIN:VEVENT
UID:20260424T162852Z - 89574@boulder
DTSTART:20141113T003000Z
DTEND:20141113T020000Z
DESCRIPTION:\nThank you for registering for Adoption Of A New Knee System: 
 The Quest For Patient Satisfaction  at\n\n  Nov. 12\, 2014\, 4:30 p.m. (Ti
 mezone: America/Los_Angeles).\n.\n\nClick here https://boulder.vumedi.com/
 webinar/adoption-of-a-new-knee-system-the-quest-for-patient-satisfaction/ 
 to attend.\n\nRegards\n\nThe VuMedi Team\nhttp://www.vumedi.com/\n
DTSTAMP:20260424T162852Z
LOCATION:https://boulder.vumedi.com/webinar/adoption-of-a-new-knee-system-t
 he-quest-for-patient-satisfaction/
SUMMARY:Adoption Of A New Knee System: The Quest For Patient Satisfaction 
URL:https://boulder.vumedi.com/webinar/adoption-of-a-new-knee-system-the-qu
 est-for-patient-satisfaction/
END:VEVENT
END:VCALENDAR
